This was completed for a collaborative project related to OneHealth within Boone County, Missouri and is intended to determine treed greenspace within the county. Both interest in treed tract sizes and the potential to map urban heat islands led to the creation of the layer.<\/SPAN><\/P><\/DIV><\/DIV><\/DIV>",
"name": "Research/Boone_County_2023_1m_Tree_Canopy",
"description": "This was completed for a collaborative project related to OneHealth within Boone County, Missouri and is intended to determine treed greenspace within the county. Both interest in treed tract sizes and the potential to map urban heat islands led to the creation of the layer.<\/SPAN><\/P><\/DIV><\/DIV><\/DIV>",
"extent": {
"xmin": 537222.924242893,
"ymin": 4277681.929111114,
"xmax": 577285.924242893,
"ymax": 4344540.929111114,
"spatialReference": {
"wkid": 26915,
"latestWkid": 26915
}
},
"initialExtent": {
"xmin": 537222.924242893,
"ymin": 4277681.929111114,
"xmax": 577285.924242893,
"ymax": 4344540.929111114,
"spatialReference": {
"wkid": 26915,
"latestWkid": 26915
}
},
"fullExtent": {
"xmin": 537222.924242893,
"ymin": 4277681.929111114,
"xmax": 577285.924242893,
"ymax": 4344540.929111114,
"spatialReference": {
"wkid": 26915,
"latestWkid": 26915
}
},
"sortableFields": "",
"bandCount": 1,
"pixelType": "F32",
"minValues": [
10
],
"maxValues": [
148.44097900391
],
"meanValues": [
49.387409267134
],
"stdvValues": [
19.561144784968
],
"serviceProperties": "Center<\/MosaicMethod>First<\/MosaicOperator>true<\/SortAscending><\/LockImageID><\/TileOrderField>0<\/TileOrderBase>0.000000<\/AvgImageSpacingX>0.000000<\/AvgImageSpacingY>0.0<\/ViewPointX>0.0<\/ViewPointY>0.0<\/ViewPointDefShiftX>0.0<\/ViewPointDefShiftY>None<\/CompressionMethod>75<\/CompressionQuality>0.010000<\/CompressionTolerance>Bilinear<\/SamplingMethod><\/ImageServiceProperties><\/ImageServer>",
"allowedFields": "",
"hasMultidimensions": false,
"pixelSizeX": 1,
"pixelSizeY": 1,
"meanPixelSize": 1,
"datasetFormat": "IMAGINE Image",
"uncompressedSize": 10714288468,
"blockWidth": 64,
"blockHeight": 64,
"compressionType": "None",
"bandNames": [
"Layer_1"
],
"allowCopy": true,
"allowAnalysis": true,
"itemAccess": false,
"inspectionCapabilities": "",
"noDataValue": -3.4028234663852886E38,
"noDataValues": [
-3.4028234663852886E38
],
"minPixelSize": 0,
"maxPixelSize": 0,
"copyrightText": "This dataset was created by the Missouri Department of Conservation, Statewide Resource Management Branch (SRM).",
"serviceDataType": "esriImageServiceDataTypeGeneric",
"serviceSourceType": "esriImageServiceSourceTypeDataset",
"objectIdField": "",
"fields": [],
"capabilities": "Image,Metadata,Mensuration",
"defaultMosaicMethod": "Center",
"allowedMosaicMethods": "",
"sortField": "",
"sortValue": null,
"sortAscending": true,
"mosaicOperator": "First",
"defaultCompressionQuality": 75,
"defaultResamplingMethod": "Bilinear",
"maxImageHeight": 4100,
"maxImageWidth": 15000,
"allowRasterFunction": true,
"rasterFunctionInfos": [
{
"name": "None",
"description": "",
"help": ""
}
],
"rasterTypeInfos": [
{
"name": "Raster Dataset",
"description": "Supports all ArcGIS Raster Datasets",
"help": ""
}
],
"mensurationCapabilities": "Basic",
"hasHistograms": true,
"hasColormap": false,
"hasRasterAttributeTable": false,
"minScale": 0,
"maxScale": 0,
"exportTilesAllowed": false,
"supportsStatistics": false,
"supportsAdvancedQueries": false,
"editFieldsInfo": null,
"ownershipBasedAccessControlForRasters": null,
"allowComputeTiePoints": false,
"useStandardizedQueries": true,
"advancedQueryCapabilities": {
"useStandardizedQueries": true,
"supportsStatistics": false,
"supportsOrderBy": false,
"supportsDistinct": false,
"supportsPagination": false
},
"spatialReference": {
"wkid": 26915,
"latestWkid": 26915
}
}